BEGIN:VCALENDAR
VERSION:2.0
PRODID:-//eventon.com NONSGML v1.0//EN
CALSCALE:GREGORIAN
METHOD:PUBLISH
BEGIN:VEVENT
UID:69ebd2f2c6d31
DTSTAMP:20260424T203042Z
DTSTART:20240617T093000Z
DTEND:20240617T103000Z
LOCATION:SG MEHRZWECKRAUM (MZR) Offenthaler Straße 51\,  63128 Dietzenbach
SUMMARY:Body-Fit
DESCRIPTION:Mit Hilfe von Kleingeräten und dem eigenen Körpergewicht wird
  dereigene Körper trainiert. Im Fokus des Kurses liegt die Körpermitte de
 r Teilnehmer – beispielsweiseum Rückenschmerzen vorzubeugen. Der Kurs is
 t für alle geeignet\,  die sich sportlich betätigenwollen und im Alltag g
 rundlegend fitter sein möchten.\nhttps://www.sg-dietzenbach.de/events/body
 -mix/var/ri-1.l-L1
URL:https://www.sg-dietzenbach.de/events/body-mix/var/ri-1.l-L1
END:VEVENT
END:VCALENDAR