BEGIN:VCALENDAR
VERSION:2.0
PRODID:-//eventon.com NONSGML v1.0//EN
CALSCALE:GREGORIAN
METHOD:PUBLISH
BEGIN:VEVENT
UID:69e901995776a
DTSTAMP:20260422T171257Z
DTSTART:20220928T183000Z
DTEND:20220928T193000Z
LOCATION:SG MEHRZWECKRAUM (MZR) Offenthaler Straße 51\,  63128 Dietzenbach
SUMMARY:After Work Soft Fitness
DESCRIPTION:Bodystyling\,  Pilates\,  FlexiBar-Schwingstäbe\,  Yoga und me
 hr bietet dieser Stundenmix. „Was du heute trainierst ist in der nächste
 n Stunde anders “Schwerpunkte dieser Stunde sind die Verbesserung der Bew
 eglichkeit der Wirbelsäule\,  die Kräftigung der Bauch- und Rückenmuskul
 atur und Übungen zur allgemeinen Mobilisierung der Gelenke. Ein entspannen
 d\,  schonend ausgeführtes\,  intensives Stretching lässt die[..]\nhttps:
 //www.sg-dietzenbach.de/events/aerobic-mehr-fuer-frauen/
URL:https://www.sg-dietzenbach.de/events/aerobic-mehr-fuer-frauen/
END:VEVENT
END:VCALENDAR