BEGIN:VCALENDAR
VERSION:2.0
PRODID:-//eventon.com NONSGML v1.0//EN
CALSCALE:GREGORIAN
METHOD:PUBLISH
BEGIN:VEVENT
UID:69e61001b07b7
DTSTAMP:20260420T113737Z
DTSTART:20250620T150000Z
DTEND:20250620T210000Z
LOCATION:SG-BOULODROM Offenthaler Straße 51\,  63128 Dietzenbach\,  Deutschland
SUMMARY:Boule - Offener Spieltag
DESCRIPTION:Boule - Offener Spieltag\nhttps://www.sg-dietzenbach.de/events/
 boule-offener-spieltag-2/var/ri-13.l-L1
URL:https://www.sg-dietzenbach.de/events/boule-offener-spieltag-2/var/ri-13.l-L1
END:VEVENT
END:VCALENDAR