BEGIN:VCALENDAR
VERSION:2.0
PRODID:-//eventon.com NONSGML v1.0//EN
CALSCALE:GREGORIAN
METHOD:PUBLISH
BEGIN:VEVENT
UID:69eb9f207dcb5
DTSTAMP:20260424T164936Z
DTSTART:20250322T140000Z
DTEND:20250322T220000Z
LOCATION:SG-BOULODROM Offenthaler Straße 51\,  63128 Dietzenbach\,  Deutschland
SUMMARY:Boule - Offener Spieltag (nach Vereinbarung)
DESCRIPTION:Boule - Offener Spieltag (nach Vereinbarung)\nhttps://www.sg-di
 etzenbach.de/events/boule-offener-spieltag-3/
URL:https://www.sg-dietzenbach.de/events/boule-offener-spieltag-3/
END:VEVENT
END:VCALENDAR