BEGIN:VCALENDAR
VERSION:2.0
PRODID:-//eventon.com NONSGML v1.0//EN
CALSCALE:GREGORIAN
METHOD:PUBLISH
BEGIN:VEVENT
UID:69e6f01f9c110
DTSTAMP:20260421T033351Z
DTSTART:20230929T074500Z
DTEND:20231003T174500Z
LOCATION:TENNISANLAGE IM WALDSTADION Offenthaler Str. 81\,  63128 Dietzenbach
SUMMARY:Indian Summer Cup (Outdoor)
DESCRIPTION:Beim Aktive ans Netz jetzt Cup bieten wir spannende Wettkämpfe
  für Aktive &amp; Senioren in den Disziplinen Einzel\,  Doppel und Mixed. 
 📅 Datum: 29. September &#8211; 3. Oktober 📍 Veranstaltungsort: SG-Ten
 nisanlage am Waldstadion Anmeldung über MyBigPoint/HTV-Turnierkalender Rü
 ckfragen beantwortet Tina Fetzer unter tina.fetzer@sg-dietzenbach.de oder 0
 1726814102\nhttps://www.sg-dietzenbach.de/events/indian-summer-cup-outdoor/
URL:https://www.sg-dietzenbach.de/events/indian-summer-cup-outdoor/
END:VEVENT
END:VCALENDAR