BEGIN:VCALENDAR
VERSION:2.0
PRODID:-//eventon.com NONSGML v1.0//EN
CALSCALE:GREGORIAN
METHOD:PUBLISH
BEGIN:VEVENT
UID:69e60be1c648e
DTSTAMP:20260420T112001Z
DTSTART:20250708T150000Z
DTEND:20250708T210000Z
LOCATION:SG-BOULODROM Offenthaler Straße 51\,  63128 Dietzenbach\,  Deutschland
SUMMARY:Boule - Offener Spieltag
DESCRIPTION:Boule - Offener Spieltag\nhttps://www.sg-dietzenbach.de/events/
 offener-spieltag/var/ri-15.l-L1
URL:https://www.sg-dietzenbach.de/events/offener-spieltag/var/ri-15.l-L1
END:VEVENT
END:VCALENDAR