BEGIN:VCALENDAR
VERSION:2.0
PRODID:-//eventon.com NONSGML v1.0//EN
CALSCALE:GREGORIAN
METHOD:PUBLISH
BEGIN:VEVENT
UID:69e57f8b5f609
DTSTAMP:20260420T012115Z
DTSTART:20260530T120000Z
DTEND:20260530T180000Z
LOCATION:
SUMMARY:Manfred-Ruff-Gedächtnis Turnier – Triplette Mixt Formé
DESCRIPTION:Spielmodi: Supermeleé: 3 Runden\,  Zeitlimit 60 Minuten + 2 Au
 fnahmen Doublette/Triplette Formé: je nach Anmeldungen 3 od. 4 Runden + Ha
 lbfinale\,  Finale Spielort: Offenthaler Str. 51\,  63128 Dietzenbach Sonst
 iges: Startgebühr 5€ pro Person/Jugend Frei 100% Ausschüttung Voranmeld
 ung bei den Formé-Turnieren erwünscht\nhttps://www.sg-dietzenbach.de/even
 ts/manfred-ruff-gedaechtnis-turnier-triplette-mixt-forme/
URL:https://www.sg-dietzenbach.de/events/manfred-ruff-gedaechtnis-turnier-triplette-mixt-forme/
END:VEVENT
END:VCALENDAR