BEGIN:VCALENDAR
VERSION:2.0
PRODID:-//eventon.com NONSGML v1.0//EN
CALSCALE:GREGORIAN
METHOD:PUBLISH
BEGIN:VEVENT
UID:69e594571d07a
DTSTAMP:20260420T024959Z
DTSTART:20260724T163000Z
DTEND:20260724T215900Z
LOCATION:
SUMMARY:Terra Libre Turnier Nocturne – Supermeleé
DESCRIPTION:Spielmodi: Supermeleé: 3 Runden\,  Zeitlimit 60 Minuten + 2 Au
 fnahmen Doublette/Triplette Formé: je nach Anmeldungen 3 od. 4 Runden + Ha
 lbfinale\,  Finale Spielort: Offenthaler Str. 51\,  63128 Dietzenbach Sonst
 iges: Startgebühr 5€ pro Person/Jugend Frei 100% Ausschüttung Voranmeld
 ung bei den Formé-Turnieren erwünscht\nhttps://www.sg-dietzenbach.de/even
 ts/terra-libre-turnier-nocturne-supermelee/
URL:https://www.sg-dietzenbach.de/events/terra-libre-turnier-nocturne-supermelee/
END:VEVENT
END:VCALENDAR