BEGIN:VCALENDAR
VERSION:2.0
PRODID:-//eventon.com NONSGML v1.0//EN
CALSCALE:GREGORIAN
METHOD:PUBLISH
BEGIN:VEVENT
UID:69e594ffeec19
DTSTAMP:20260420T025247Z
DTSTART:20260620T080000Z
DTEND:20260620T180000Z
LOCATION:SG-BOULODROM Offenthaler Straße 51\,  63128 Dietzenbach\,  Deutschland
SUMMARY:3. Ligaspieltag
DESCRIPTION:Spieltag der 3. Liga (Teilnahme SG Dietzenbach 1)\nhttps://www
 .sg-dietzenbach.de/events/3-ligaspieltag/
URL:https://www.sg-dietzenbach.de/events/3-ligaspieltag/
END:VEVENT
END:VCALENDAR