BEGIN:VCALENDAR
VERSION:2.0
PRODID:-//eventon.com NONSGML v1.0//EN
CALSCALE:GREGORIAN
METHOD:PUBLISH
BEGIN:VEVENT
UID:69e5806d714da
DTSTAMP:20260420T012501Z
DTSTART:20260621T080000Z
DTEND:20260621T180000Z
LOCATION:SG-BOULODROM Offenthaler Straße 51\,  63128 Dietzenbach\,  Deutschland
SUMMARY:3. Ligaspieltag
DESCRIPTION:Spieltag der 4. Liga (Teilnahme SG Dietzenbach 2)\nhttps://www
 .sg-dietzenbach.de/events/3-ligaspieltag-2/
URL:https://www.sg-dietzenbach.de/events/3-ligaspieltag-2/
END:VEVENT
END:VCALENDAR