BEGIN:VCALENDAR
VERSION:2.0
PRODID:-//eventon.com NONSGML v1.0//EN
CALSCALE:GREGORIAN
METHOD:PUBLISH
BEGIN:VEVENT
UID:69e57e1ae79cd
DTSTAMP:20260420T011506Z
DTSTART:20260926T080000Z
DTEND:20260926T160000Z
LOCATION:
SUMMARY:Stadtmeisterschaft – Triplette Formé
DESCRIPTION:\nhttps://www.sg-dietzenbach.de/events/stadtmeisterschaft-tripl
 ette-forme/
URL:https://www.sg-dietzenbach.de/events/stadtmeisterschaft-triplette-forme/
END:VEVENT
END:VCALENDAR